Workbook

Sheet 請求書入力説明
C2: 請求書 材料その他用 入力説明
C4: ※単価契約№は、2023年10月1日以降に締結する単価契約書の注文書№を入力してください
C5: 2023年9月30日までに締結している分の請求書には、単価契約№は入力不要です。
C7: 「材料その他用」請求書発行の注意点
C8: ① 工事№ごとに請求書を発行してください。同月に複数の工事№の請求書を発行する場合は、工事№ごとに発行していただけますようお願いいたします
C9: ② 単価契約で締結している場合は、こちらの請求書で発行してください
C10: ③ 注文書締結分（単価契約は除く）は、別請求書作成データ「外注請求用」で発行してください。
C11: ③ 消費税額は、切り捨てで計算しております
C12: ④ 別紙明細でまとめる場合でも、異なる消費税率が明細に含まれている場合は、消費税率ごとに明細を入力してください
C14: 「材料その他用」請求書発行・印刷・提出の流れ
C15: 発行：「入力フォーム」に、必要項目を入力する
C16: 印刷：「請求書_材料その他用（提出用）」から、請求書のみを印刷する
... C22: 「発行会社情報」
C23: 項目 | D23: 文字制限 | E23: 説明 | F23: 備考
C24: 登録番号 | D24: 13桁、数字のみ | E24: 「T」より後ろの登録番号を入力してください | F24: 登録番号を登録されていない場合は、空白のままにしておいください
C25: 取引先№ | D25: 8桁以内、数字のみ | E25: 取引先№を入力してください | F25: 取引先№が不明な場合は、担当者にお問い合わせください
B26: ● | C26: 住所（1行目） | E26: 発行元の住所を入力してください
C27: 住所（2行目）
B28: ● | C28: 会社名（1行目） | E28: 発行元の会社名を入力してください
C29: 会社名（2行目）
B30: ● | C30: ＴＥＬ | E30: 請求書に関して連絡可能な電話番号を入力してください
B31: ● | C31: ＦＡＸ | E31: 請求書に関して連絡可能なFAX番号を入力してください
B32: ● | C32: 担当者名 | E32: 発行元の担当者名を入力してください | F32: 請求書発行元の担当者名
C34: 「発行請求書情報」
C35: 項目 | D35: 文字制限 | E35: 説明 | F35: 備考
B36: ● | C36: 請求日(締切日) | D36: 日付 | E36: 請求書の締切年月日を入力してください | F36: 入力方法 例）2023年8月10日の場合は、8/10・8月10日・2023/8/10・2023年8月10日
C37: 単価契約№（注文書№） | D37: 9桁、数字のみ | E37: 単価契約締結済のみ、請求書の注文書№を入力してください | F37: 単価契約№は、締結済の注文書をご確認ください、不明な場合は、担当者にお問い合わせください
B38: ● | C38: 工事№(請求番号) | D38: 主が6桁・枝が3桁、数字のみ | E38: 請求書の工事№を入力してください（主は、2桁-4桁から、6桁に変更） | F38: 工事№は、締結済の注文書をご確認ください、不明な場合は、担当者にお問い合わせください
B39: ● | C39: 工事名称(件名) | E39: 請求書の工事名称を入力してください | F39: 工事名称は、締結済の注文書をご確認ください、不明な場合は、担当者にお問い合わせください
B40: ● | C40: 工事担当者 | E40: 請求書の工事担当者名を入力してください | F40: 信和建設の担当者名
C42: 「請求明細（税抜）」
C43: 項目 | D43: 文字制限 | E43: 説明 | F43: 備考
B44: ● | C44: 日付 | D44: 日付 | E44: 明細ごとの日付（作業日・納品日等）を入力してください | F44: 入力方法 例）2023年8月10日の場合は、8/10・8月10日・2023/8/10・2023年8月10日
B45: ● | C45: 摘要 | E45: 明細ごとの摘要（作業内容・納品物等）を入力してください | F45: 表現（入力内容）について、不明な場合は、担当者にお問い合わせください
B46: ● | C46: 税区分 | D46: ▼リストより選択 | E46: 明細ごとの消費税を選択してください | F46: 「10％」・「8％（軽減）」・「非課税」・「不課税」の中から選択してください
B47: ● | C47: 数量 | D47: 数字のみ | E47: 明細ごとの数量を入力してください | F47: 数量×単価で金額（小数点以下切り捨て）が計算されます
B48: ● | C48: 単位 | E48: 明細ごとの単位を入力してください | F48: 単位が明確でない場合は、「式」を入力してください
B49: ● | C49: 単価 | D49: 数字のみ | E49: 明細ごとの単価を入力してください | F49: 数量×単価で金額（小数点以下切り捨て）が計算されます
C51: 「備考」
C52: 項目 | D52: 文字制限 | E52: 説明 | F52: 備考
...

Sheet 入力フォーム
B2: 請求書 材料その他用 入力フォーム | G2: （単位：円）
B3: 前項の入力説明に沿って、黄色のセルにご入力ください。
B4: 次項のフォーマットに自動転記されますので、請求書のみを印刷してご利用ください。（白黒印刷で差し支えありません）
B6: 発行会社情報 | G6: 発行請求書情報 | L6: 請求書 税区分別内訳
B7: 登録番号 | C7: 5120001204946 | G7: 請求日(締切日) | H7: 45179 | L7: 税区分別内訳 | M7: 税抜金額 | N7: 消費税額 | O7: 税込金額
B8: 取引先№ | C8: 110000 | G8: 単価契約№ | H8: 230001001 | L8: 10% 対象 | M8: =IF(K20="","",SUMIF(G20:G25,消費税区分!B3,入力フォーム!K20:K25)) -> 60000 | N8: =IF(K20="","",K27) -> 6000 | O8: =IF(K20="","",M8+N8) -> 66000
B9: 住所（1行目） | C9: 大阪府大阪市中央区南船場１丁目１８番１１号 | G9: 工事№(請求番号) | H9: 230001 | I9: － | J9: 0 | L9: 8%(軽減)対象 | M9: =IF(K20="","",SUMIF(G20:G25,消費税区分!B4,入力フォーム!K20:K25)) -> 0 | N9: =IF(K20="","",K28) -> 0 | O9: =IF(K20="","",M9+N9) -> 0
B10: 住所（2行目） | G10: 工事名称(件名) | H10: 中央区南船場マンション新築工事 | L10: 非課税 対象 | M10: =IF(K20="","",SUMIF(G20:G25,消費税区分!B5,入力フォーム!K20:K25)) -> 0 | N10: － | O10: =IF(K20="","",M10) -> 0
B11: 会社名（1行目） | C11: 信和ホールディングス株式会社 | G11: 工事担当者 | H11: 信和 次郎 | L11: 不課税 対象 | M11: =IF(K20="","",SUMIF(G20:G25,消費税区分!B6,入力フォーム!K20:K25)) -> 0 | N11: － | O11: =IF(K20="","",M11) -> 0
B12: 会社名（2行目） | L12: 合計 | M12: =IF($G$20="","",SUM(M8:M11)) -> 60000 | N12: =IF($G$20="","",SUM(N8:N11)) -> 6000 | O12: =IF($G$20="","",SUM(O8:O11)) -> 66000
B13: ＴＥＬ | C13: 06-6265-4840 | G13: 請求金額 | H13: =IF(G20="","",K30) -> 66000
B14: ＦＡＸ | C14: 06-6265-4850
B15: 担当者名 | C15: 信和 太郎
B17: 請求明細（税抜） | M17: 備考
B18: 日 付 | C18: 摘 要 | G18: 税 区 分 | H18: 数 量 | I18: 単 位 | J18: 単 価 | K18: 金額（税抜） | M18: 備考（1行目）
M19: 備考（2行目）
B20: 45153 | C20: ゴミ処理代 | G20: 0.1 | H20: 1 | I20: 式 | J20: 20000 | K20: =IF(G20="","",ROUNDDOWN(H20*J20,0)) -> 20000 | M20: 備考（3行目）
B21: 45169 | C21: ゴミ処理代 | G21: 0.1 | H21: 1 | I21: 式 | J21: 20000 | K21: =IF(G21="","",ROUNDDOWN(H21*J21,0)) -> 20000 | M21: 備考（4行目）
B22: 45174 | C22: ゴミ処理代 | G22: 0.1 | H22: 1 | I22: 式 | J22: 20000 | K22: =IF(G22="","",ROUNDDOWN(H22*J22,0)) -> 20000 | M22: 備考（5行目）
K23: =IF(G23="","",ROUNDDOWN(H23*J23,0)) | M23: 備考（6行目）
K24: =IF(G24="","",ROUNDDOWN(H24*J24,0))
K25: =IF(G25="","",ROUNDDOWN(H25*J25,0))
B26: 税抜 合計 | K26: =IF(G20="","",SUM(K20:K25)) -> 60000
B27: 10% 対象 | K27: =ROUNDDOWN(SUMIF($G$20:$G$25,消費税区分!$B3,入力フォーム!K$20:K$25)*0.1,0) -> 6000
B28: 8%(軽減)対象 | K28: =ROUNDDOWN(SUMIF($G$20:$G$25,消費税区分!$B4,入力フォーム!K$20:K$25)*0.08,0) -> 0
B29: 消費税 合計 | K29: =SUM(K27:K28) -> 6000
B30: 税込 合計 | K30: =SUM(K29,K26) -> 66000

Sheet 【自動転記】請求書_材料その他用（提出用）
B1: 請 求 書
B2: 信和建設株式会社 | S2: 御中 | V2: （ 材 料 そ の 他 用 ） | AE2: 登録番号 | AH2: =IF(入力フォーム!C7="","",入力フォーム!C7) -> 5120001204946
B4: 下記の通り請求いたします
Y5: 取引先№ | AB5: =IF(入力フォーム!C8="","",入力フォーム!C8) -> 110000 | AM5: 会社印
B7: 請求日(締切日) | F7: =IF(入力フォーム!H7="","",入力フォーム!H7) -> 45179
Y8: 住所
AB9: =IF(入力フォーム!C9="","",入力フォーム!C9) -> 大阪府大阪市中央区南船場１丁目１８番１１号
B10: 単価契約№ | F10: =IF(入力フォーム!H8="","",入力フォーム!H8) -> 230001001
AB11: =IF(入力フォーム!C10="","",入力フォーム!C10)
B13: 工事№(請求番号) | F13: =IF(入力フォーム!H9="","",入力フォーム!H9) -> 230001 | J13: - | L13: =IF(入力フォーム!J9="","",入力フォーム!J9) -> 0 | O13: 工事担当者 | S13: =IF(入力フォーム!H11="","",入力フォーム!H11) -> 信和 次郎
Y14: 会社名
AB15: =IF(入力フォーム!C11="","",入力フォーム!C11) -> 信和ホールディングス株式会社
B16: 工事名称(件名)
F17: =IF(入力フォーム!H10="","",入力フォーム!H10) -> 中央区南船場マンション新築工事 | AB17: =IF(入力フォーム!C12="","",入力フォーム!C12)
Y20: ＴＥＬ | AB20: =IF(入力フォーム!C13="","",入力フォーム!C13) -> 06-6265-4840
B21: 請求金額 | F21: =入力フォーム!H13 -> 66000 | Y21: ＦＡＸ | AB21: =IF(入力フォーム!C14="","",入力フォーム!C14) -> 06-6265-4850
Y22: 担当者名 | AB22: =IF(入力フォーム!C15="","",入力フォーム!C15) -> 信和 太郎
B24: 日 付 | E24: 摘 要 | AA24: 税区分 | AD24: 数 量 | AG24: 単位 | AI24: 単 価 | AM24: 金額(税抜)
B25: =IF(入力フォーム!B20="","",入力フォーム!B20) -> 45153 | E25: =IF(入力フォーム!C20="","",入力フォーム!C20) -> ゴミ処理代 | AA25: =IF(入力フォーム!G20="","",入力フォーム!G20) -> 0.1 | AD25: =IF(入力フォーム!H20="","",入力フォーム!H20) -> 1 | AG25: =IF(入力フォーム!I20="","",入力フォーム!I20&" ") -> 式 | AI25: =IF(入力フォーム!J20="","",入力フォーム!J20) -> 20000 | AM25: =IF(入力フォーム!K20="","",入力フォーム!K20) -> 20000
B26: =IF(入力フォーム!B21="","",入力フォーム!B21) -> 45169 | E26: =IF(入力フォーム!C21="","",入力フォーム!C21) -> ゴミ処理代 | AA26: =IF(入力フォーム!G21="","",入力フォーム!G21) -> 0.1 | AD26: =IF(入力フォーム!H21="","",入力フォーム!H21) -> 1 | AG26: =IF(入力フォーム!I21="","",入力フォーム!I21&" ") -> 式 | AI26: =IF(入力フォーム!J21="","",入力フォーム!J21) -> 20000 | AM26: =IF(入力フォーム!K21="","",入力フォーム!K21) -> 20000
B27: =IF(入力フォーム!B22="","",入力フォーム!B22) -> 45174 | E27: =IF(入力フォーム!C22="","",入力フォーム!C22) -> ゴミ処理代 | AA27: =IF(入力フォーム!G22="","",入力フォーム!G22) -> 0.1 | AD27: =IF(入力フォーム!H22="","",入力フォーム!H22) -> 1 | AG27: =IF(入力フォーム!I22="","",入力フォーム!I22&" ") -> 式 | AI27: =IF(入力フォーム!J22="","",入力フォーム!J22) -> 20000 | AM27: =IF(入力フォーム!K22="","",入力フォーム!K22) -> 20000
B28: =IF(入力フォーム!B23="","",入力フォーム!B23) | E28: =IF(入力フォーム!C23="","",入力フォーム!C23) | AA28: =IF(入力フォーム!G23="","",入力フォーム!G23) | AD28: =IF(入力フォーム!H23="","",入力フォーム!H23) | AG28: =IF(入力フォーム!I23="","",入力フォーム!I23&" ") | AI28: =IF(入力フォーム!J23="","",入力フォーム!J23) | AM28: =IF(入力フォーム!K23="","",入力フォーム!K23)
B29: =IF(入力フォーム!B24="","",入力フォーム!B24) | E29: =IF(入力フォーム!C24="","",入力フォーム!C24) | AA29: =IF(入力フォーム!G24="","",入力フォーム!G24) | AD29: =IF(入力フォーム!H24="","",入力フォーム!H24) | AG29: =IF(入力フォーム!I24="","",入力フォーム!I24&" ") | AI29: =IF(入力フォーム!J24="","",入力フォーム!J24) | AM29: =IF(入力フォーム!K24="","",入力フォーム!K24)
B30: =IF(入力フォーム!B25="","",入力フォーム!B25) | E30: =IF(入力フォーム!C25="","",入力フォーム!C25) | AA30: =IF(入力フォーム!G25="","",入力フォーム!G25) | AD30: =IF(入力フォーム!H25="","",入力フォーム!H25) | AG30: =IF(入力フォーム!I25="","",入力フォーム!I25&" ") | AI30: =IF(入力フォーム!J25="","",入力フォーム!J25) | AM30: =IF(入力フォーム!K25="","",入力フォーム!K25)
B31: 合 計 | AM31: =IF(入力フォーム!K26="","",入力フォーム!K26) -> 60000
B33: 税区分別内訳 | F33: 税抜金額 | M33: 消費税額 | T33: 税込金額 | Z33: 備 考 | AA33: =IF(入力フォーム!N18="","",入力フォーム!N18)
B34: 10% 対象 | F34: =入力フォーム!M8 -> 60000 | M34: =入力フォーム!N8 -> 6000 | T34: =入力フォーム!O8 -> 66000 | AA34: =IF(入力フォーム!N19="","",入力フォーム!N19)
B35: 8%(軽減)対象 | F35: =入力フォーム!M9 -> 0 | M35: =入力フォーム!N9 -> 0 | T35: =入力フォーム!O9 -> 0 | AA35: =IF(入力フォーム!N20="","",入力フォーム!N20)
B36: 非課税 対象 | F36: =入力フォーム!M10 -> 0 | M36: － | T36: =入力フォーム!O10 -> 0 | AA36: =IF(入力フォーム!N21="","",入力フォーム!N21)
B37: 不課税 対象 | F37: =入力フォーム!M11 -> 0 | M37: － | T37: =入力フォーム!O11 -> 0 | AA37: =IF(入力フォーム!N22="","",入力フォーム!N22)
B38: 合 計 | F38: =IF(入力フォーム!M12="","",入力フォーム!M12) -> 60000 | M38: =IF(入力フォーム!N12="","",入力フォーム!N12) -> 6000 | T38: =IF(入力フォーム!O12="","",入力フォーム!O12) -> 66000 | AA38: =IF(入力フォーム!N23="","",入力フォーム!N23)
B40: 信和建設使用欄
B43: 信和建設株式会社_指定請求書_材料その他用_Ver1.01_20230825

Sheet 【直接入力】請求書_材料その他用（提出用)
B1: 請 求 書
B2: 信和建設株式会社 | S2: 御中 | V2: （ 材 料 そ の 他 用 ） | AE2: 登録番号 | AH2: 5120001204946
B4: 下記の通り請求いたします
Y5: 取引先№ | AB5: 110000 | AM5: 会社印
B7: 請求日(締切日) | F7: 45179
Y8: 住所
AB9: 大阪府大阪市中央区南船場１丁目１８番１１号
B10: 単価契約№ | F10: 230001001
B13: 工事№(請求番号) | F13: 230001 | J13: - | L13: 0 | O13: 工事担当者 | S13: 信和 次郎
Y14: 会社名
AB15: 信和ホールディングス株式会社
B16: 工事名称(件名)
F17: 中央区南船場マンション新築工事
Y20: ＴＥＬ | AB20: 06-6265-4840
B21: 請求金額 | F21: =T38 -> 66000 | Y21: ＦＡＸ | AB21: 06-6265-4850
Y22: 担当者名 | AB22: 信和 太郎
B24: 日 付 | E24: 摘 要 | AA24: 税区分 | AD24: 数 量 | AG24: 単位 | AI24: 単 価 | AM24: 金額(税抜)
B25: 45153 | E25: ゴミ処理代 | AA25: 0.1 | AD25: 1 | AG25: 式 | AI25: 20000 | AM25: =IF(AA25="","",ROUNDDOWN(AD25*AI25,0)) -> 20000
B26: 45169 | E26: ゴミ処理代 | AA26: 0.1 | AD26: 1 | AG26: 式 | AI26: 20000 | AM26: =IF(AA26="","",ROUNDDOWN(AD26*AI26,0)) -> 20000
B27: 45174 | E27: ゴミ処理代 | AA27: 0.1 | AD27: 1 | AG27: 式 | AI27: 20000 | AM27: =IF(AA27="","",ROUNDDOWN(AD27*AI27,0)) -> 20000
AM28: =IF(AA28="","",ROUNDDOWN(AD28*AI28,0))
AM29: =IF(AA29="","",ROUNDDOWN(AD29*AI29,0))
AM30: =IF(AA30="","",ROUNDDOWN(AD30*AI30,0))
B31: 合 計 | AM31: =SUM(AM25:AP30) -> 60000
B33: 税区分別内訳 | F33: 税抜金額 | M33: 消費税額 | T33: 税込金額 | Z33: 備 考
B34: 10% 対象 | F34: =SUMIF(AA25:AC30,消費税区分!B3,AM25:AP30) -> 60000 | M34: =ROUNDDOWN(F34*0.1,0) -> 6000 | T34: =SUM(F34:S34) -> 66000
B35: 8%(軽減)対象 | F35: =SUMIF(AA25:AC30,消費税区分!B4,AM25:AP30) -> 0 | M35: =ROUNDDOWN(F35*0.08,0) -> 0 | T35: =SUM(F35:S35) -> 0
B36: 非課税 対象 | F36: =SUMIF(AA25:AC30,消費税区分!B5,AM25:AP30) -> 0 | M36: － | T36: =SUM(F36) -> 0
B37: 不課税 対象 | F37: =SUMIF(AA25:AC30,消費税区分!B6,AM25:AP30) -> 0 | M37: － | T37: =SUM(F37) -> 0
B38: 合 計 | F38: =SUM(F34:L37) -> 60000 | M38: =SUM(M34:S35) -> 6000 | T38: =SUM(T34:X37) -> 66000
B40: 信和建設使用欄
B43: 信和建設株式会社_指定請求書_材料その他用_Ver1.01_20230825

Sheet 【手書き】請求書_材料その他用（提出用）
B1: 請 求 書
B2: 信和建設株式会社 | S2: 御中 | V2: （ 材 料 そ の 他 用 ） | AE2: 登録番号
B4: 下記の通り請求いたします
Y5: 取引先№ | AM5: 会社印
B7: 請求日(締切日)
Y8: 住所
B10: 単価契約№
AB11: =IF(入力フォーム!C10="","",入力フォーム!C10)
B13: 工事№(請求番号) | J13: - | O13: 工事担当者
Y14: 会社名
B16: 工事名称(件名)
Y20: ＴＥＬ
B21: 請求金額 | Y21: ＦＡＸ
Y22: 担当者名
B24: 日 付 | E24: 摘 要 | AA24: 税区分 | AD24: 数 量 | AG24: 単位 | AI24: 単 価 | AM24: 金額(税抜)
B31: 合 計
B33: 税区分別内訳 | F33: 税抜金額 | M33: 消費税額 | T33: 税込金額 | Z33: 備 考
B34: 10% 対象
B35: 8%(軽減)対象
B36: 非課税 対象 | M36: －
B37: 不課税 対象 | M37: －
B38: 合 計
B40: 信和建設使用欄
B43: 信和建設株式会社_指定請求書_材料その他用_Ver1.01_20230825

Sheet 工種一覧
E1: 明細1 | F1: 明細2 | G1: 明細3 | H1: 明細4 | I1: 明細5 | J1: 明細6 | L1: 明細1 | N1: 明細2 | P1: 明細3 | R1: 明細4 | T1: 明細5 | V1: 明細6
B2: 検索 | D2: 工種名 | E2: COUNTIF関数 | F2: COUNTIF関数 | G2: COUNTIF関数 | H2: COUNTIF関数 | I2: COUNTIF関数 | J2: COUNTIF関数 | L2: 抽出 | N2: 抽出 | P2: 抽出 | R2: 抽出 | T2: 抽出 | V2: 抽出
A3: 明細1 | B3: =IF(入力フォーム!B20="","",入力フォーム!B20) -> 45153 | D3: 131313 準備/式祭典費･安全祈願 | E3: =COUNTIF($D$3:D3,"*"&$B$3&"*") -> 0 | F3: =COUNTIF($D$3:D3,"*"&$B$4&"*") -> 0 | G3: =COUNTIF($D$3:D3,"*"&$B$5&"*") -> 0 | H3: =COUNTIF($D$3:D3,"*"&$B$6&"*") -> 1 | I3: =COUNTIF($D$3:D3,"*"&$B$7&"*") -> 1 | J3: =COUNTIF($D$3:D3,"*"&$B$8&"*") -> 1 | L3: {=IFERROR(INDEX(D:D,MATCH(ROW(1:1),E:E,0),1),"")} | N3: {=IFERROR(INDEX(D:D,MATCH(ROW(1:1),F:F,0),1),"")} | P3: {=IFERROR(INDEX(D:D,MATCH(ROW(1:1),G:G,0),1),"")} | R3: {=IFERROR(INDEX(D:D,MATCH(ROW(1:1),H:H,0),1),"")} -> 131313 準備/式祭典費･安全祈願 | T3: {=IFERROR(INDEX(D:D,MATCH(ROW(1:1),I:I,0),1),"")} -> 131313 準備/式祭典費･安全祈願 | V3: {=IFERROR(INDEX(D:D,MATCH(ROW(1:1),J:J,0),1),"")} -> 131313 準備/式祭典費･安全祈願
A4: 明細2 | B4: =IF(入力フォーム!B21="","",入力フォーム!B21) -> 45169 | D4: 131316 準備/仮設電気引込 | E4: =COUNTIF($D$3:D4,"*"&$B$3&"*") -> 0 | F4: =COUNTIF($D$3:D4,"*"&$B$4&"*") -> 0 | G4: =COUNTIF($D$3:D4,"*"&$B$5&"*") -> 0 | H4: =COUNTIF($D$3:D4,"*"&$B$6&"*") -> 2 | I4: =COUNTIF($D$3:D4,"*"&$B$7&"*") -> 2 | J4: =COUNTIF($D$3:D4,"*"&$B$8&"*") -> 2 | L4: {=IFERROR(INDEX(D:D,MATCH(ROW(2:2),E:E,0),1),"")} | N4: {=IFERROR(INDEX(D:D,MATCH(ROW(2:2),F:F,0),1),"")} | P4: {=IFERROR(INDEX(D:D,MATCH(ROW(2:2),G:G,0),1),"")} | R4: {=IFERROR(INDEX(D:D,MATCH(ROW(2:2),H:H,0),1),"")} -> 131316 準備/仮設電気引込 | T4: {=IFERROR(INDEX(D:D,MATCH(ROW(2:2),I:I,0),1),"")} -> 131316 準備/仮設電気引込 | V4: {=IFERROR(INDEX(D:D,MATCH(ROW(2:2),J:J,0),1),"")} -> 131316 準備/仮設電気引込
A5: 明細3 | B5: =IF(入力フォーム!B22="","",入力フォーム!B22) -> 45174 | D5: 131319 準備/仮設水道引込 | E5: =COUNTIF($D$3:D5,"*"&$B$3&"*") -> 0 | F5: =COUNTIF($D$3:D5,"*"&$B$4&"*") -> 0 | G5: =COUNTIF($D$3:D5,"*"&$B$5&"*") -> 0 | H5: =COUNTIF($D$3:D5,"*"&$B$6&"*") -> 3 | I5: =COUNTIF($D$3:D5,"*"&$B$7&"*") -> 3 | J5: =COUNTIF($D$3:D5,"*"&$B$8&"*") -> 3 | L5: {=IFERROR(INDEX(D:D,MATCH(ROW(3:3),E:E,0),1),"")} | N5: {=IFERROR(INDEX(D:D,MATCH(ROW(3:3),F:F,0),1),"")} | P5: {=IFERROR(INDEX(D:D,MATCH(ROW(3:3),G:G,0),1),"")} | R5: {=IFERROR(INDEX(D:D,MATCH(ROW(3:3),H:H,0),1),"")} -> 131319 準備/仮設水道引込 | T5: {=IFERROR(INDEX(D:D,MATCH(ROW(3:3),I:I,0),1),"")} -> 131319 準備/仮設水道引込 | V5: {=IFERROR(INDEX(D:D,MATCH(ROW(3:3),J:J,0),1),"")} -> 131319 準備/仮設水道引込
A6: 明細4 | B6: =IF(入力フォーム!B23="","",入力フォーム!B23) | D6: 131322 準備/試掘費用 | E6: =COUNTIF($D$3:D6,"*"&$B$3&"*") -> 0 | F6: =COUNTIF($D$3:D6,"*"&$B$4&"*") -> 0 | G6: =COUNTIF($D$3:D6,"*"&$B$5&"*") -> 0 | H6: =COUNTIF($D$3:D6,"*"&$B$6&"*") -> 4 | I6: =COUNTIF($D$3:D6,"*"&$B$7&"*") -> 4 | J6: =COUNTIF($D$3:D6,"*"&$B$8&"*") -> 4 | L6: {=IFERROR(INDEX(D:D,MATCH(ROW(4:4),E:E,0),1),"")} | N6: {=IFERROR(INDEX(D:D,MATCH(ROW(4:4),F:F,0),1),"")} | P6: {=IFERROR(INDEX(D:D,MATCH(ROW(4:4),G:G,0),1),"")} | R6: {=IFERROR(INDEX(D:D,MATCH(ROW(4:4),H:H,0),1),"")} -> 131322 準備/試掘費用 | T6: {=IFERROR(INDEX(D:D,MATCH(ROW(4:4),I:I,0),1),"")} -> 131322 準備/試掘費用 | V6: {=IFERROR(INDEX(D:D,MATCH(ROW(4:4),J:J,0),1),"")} -> 131322 準備/試掘費用
A7: 明細5 | B7: =IF(入力フォーム!B24="","",入力フォーム!B24) | D7: 131325 準備/整地費 | E7: =COUNTIF($D$3:D7,"*"&$B$3&"*") -> 0 | F7: =COUNTIF($D$3:D7,"*"&$B$4&"*") -> 0 | G7: =COUNTIF($D$3:D7,"*"&$B$5&"*") -> 0 | H7: =COUNTIF($D$3:D7,"*"&$B$6&"*") -> 5 | I7: =COUNTIF($D$3:D7,"*"&$B$7&"*") -> 5 | J7: =COUNTIF($D$3:D7,"*"&$B$8&"*") -> 5 | L7: {=IFERROR(INDEX(D:D,MATCH(ROW(5:5),E:E,0),1),"")} | N7: {=IFERROR(INDEX(D:D,MATCH(ROW(5:5),F:F,0),1),"")} | P7: {=IFERROR(INDEX(D:D,MATCH(ROW(5:5),G:G,0),1),"")} | R7: {=IFERROR(INDEX(D:D,MATCH(ROW(5:5),H:H,0),1),"")} -> 131325 準備/整地費 | T7: {=IFERROR(INDEX(D:D,MATCH(ROW(5:5),I:I,0),1),"")} -> 131325 準備/整地費 | V7: {=IFERROR(INDEX(D:D,MATCH(ROW(5:5),J:J,0),1),"")} -> 131325 準備/整地費
A8: 明細6 | B8: =IF(入力フォーム!B25="","",入力フォーム!B25) | D8: 131328 準備/家屋調査(事前) | E8: =COUNTIF($D$3:D8,"*"&$B$3&"*") -> 0 | F8: =COUNTIF($D$3:D8,"*"&$B$4&"*") -> 0 | G8: =COUNTIF($D$3:D8,"*"&$B$5&"*") -> 0 | H8: =COUNTIF($D$3:D8,"*"&$B$6&"*") -> 6 | I8: =COUNTIF($D$3:D8,"*"&$B$7&"*") -> 6 | J8: =COUNTIF($D$3:D8,"*"&$B$8&"*") -> 6 | L8: {=IFERROR(INDEX(D:D,MATCH(ROW(6:6),E:E,0),1),"")} | N8: {=IFERROR(INDEX(D:D,MATCH(ROW(6:6),F:F,0),1),"")} | P8: {=IFERROR(INDEX(D:D,MATCH(ROW(6:6),G:G,0),1),"")} | R8: {=IFERROR(INDEX(D:D,MATCH(ROW(6:6),H:H,0),1),"")} -> 131328 準備/家屋調査(事前) | T8: {=IFERROR(INDEX(D:D,MATCH(ROW(6:6),I:I,0),1),"")} -> 131328 準備/家屋調査(事前) | V8: {=IFERROR(INDEX(D:D,MATCH(ROW(6:6),J:J,0),1),"")} -> 131328 準備/家屋調査(事前)
D9: 131331 準備/家屋調査(事後) | E9: =COUNTIF($D$3:D9,"*"&$B$3&"*") -> 0 | F9: =COUNTIF($D$3:D9,"*"&$B$4&"*") -> 0 | G9: =COUNTIF($D$3:D9,"*"&$B$5&"*") -> 0 | H9: =COUNTIF($D$3:D9,"*"&$B$6&"*") -> 7 | I9: =COUNTIF($D$3:D9,"*"&$B$7&"*") -> 7 | J9: =COUNTIF($D$3:D9,"*"&$B$8&"*") -> 7 | L9: {=IFERROR(INDEX(D:D,MATCH(ROW(7:7),E:E,0),1),"")} | N9: {=IFERROR(INDEX(D:D,MATCH(ROW(7:7),F:F,0),1),"")} | P9: {=IFERROR(INDEX(D:D,MATCH(ROW(7:7),G:G,0),1),"")} | R9: {=IFERROR(INDEX(D:D,MATCH(ROW(7:7),H:H,0),1),"")} -> 131331 準備/家屋調査(事後) | T9: {=IFERROR(INDEX(D:D,MATCH(ROW(7:7),I:I,0),1),"")} -> 131331 準備/家屋調査(事後) | V9: {=IFERROR(INDEX(D:D,MATCH(ROW(7:7),J:J,0),1),"")} -> 131331 準備/家屋調査(事後)
D10: 131334 準備/仮設乗り入れ口 | E10: =COUNTIF($D$3:D10,"*"&$B$3&"*") -> 0 | F10: =COUNTIF($D$3:D10,"*"&$B$4&"*") -> 0 | G10: =COUNTIF($D$3:D10,"*"&$B$5&"*") -> 0 | H10: =COUNTIF($D$3:D10,"*"&$B$6&"*") -> 8 | I10: =COUNTIF($D$3:D10,"*"&$B$7&"*") -> 8 | J10: =COUNTIF($D$3:D10,"*"&$B$8&"*") -> 8 | L10: {=IFERROR(INDEX(D:D,MATCH(ROW(8:8),E:E,0),1),"")} | N10: {=IFERROR(INDEX(D:D,MATCH(ROW(8:8),F:F,0),1),"")} | P10: {=IFERROR(INDEX(D:D,MATCH(ROW(8:8),G:G,0),1),"")} | R10: {=IFERROR(INDEX(D:D,MATCH(ROW(8:8),H:H,0),1),"")} -> 131334 準備/仮設乗り入れ口 | T10: {=IFERROR(INDEX(D:D,MATCH(ROW(8:8),I:I,0),1),"")} -> 131334 準備/仮設乗り入れ口 | V10: {=IFERROR(INDEX(D:D,MATCH(ROW(8:8),J:J,0),1),"")} -> 131334 準備/仮設乗り入れ口
D11: 131337 準備/万能板看板ｼｰﾄ | E11: =COUNTIF($D$3:D11,"*"&$B$3&"*") -> 0 | F11: =COUNTIF($D$3:D11,"*"&$B$4&"*") -> 0 | G11: =COUNTIF($D$3:D11,"*"&$B$5&"*") -> 0 | H11: =COUNTIF($D$3:D11,"*"&$B$6&"*") -> 9 | I11: =COUNTIF($D$3:D11,"*"&$B$7&"*") -> 9 | J11: =COUNTIF($D$3:D11,"*"&$B$8&"*") -> 9 | L11: {=IFERROR(INDEX(D:D,MATCH(ROW(9:9),E:E,0),1),"")} | N11: {=IFERROR(INDEX(D:D,MATCH(ROW(9:9),F:F,0),1),"")} | P11: {=IFERROR(INDEX(D:D,MATCH(ROW(9:9),G:G,0),1),"")} | R11: {=IFERROR(INDEX(D:D,MATCH(ROW(9:9),H:H,0),1),"")} -> 131337 準備/万能板看板ｼｰﾄ | T11: {=IFERROR(INDEX(D:D,MATCH(ROW(9:9),I:I,0),1),"")} -> 131337 準備/万能板看板ｼｰﾄ | V11: {=IFERROR(INDEX(D:D,MATCH(ROW(9:9),J:J,0),1),"")} -> 131337 準備/万能板看板ｼｰﾄ
D12: 131340 準備/万能板看板ｼｰﾄ申請費 | E12: =COUNTIF($D$3:D12,"*"&$B$3&"*") -> 0 | F12: =COUNTIF($D$3:D12,"*"&$B$4&"*") -> 0 | G12: =COUNTIF($D$3:D12,"*"&$B$5&"*") -> 0 | H12: =COUNTIF($D$3:D12,"*"&$B$6&"*") -> 10 | I12: =COUNTIF($D$3:D12,"*"&$B$7&"*") -> 10 | J12: =COUNTIF($D$3:D12,"*"&$B$8&"*") -> 10 | L12: {=IFERROR(INDEX(D:D,MATCH(ROW(10:10),E:E,0),1),"")} | N12: {=IFERROR(INDEX(D:D,MATCH(ROW(10:10),F:F,0),1),"")} | P12: {=IFERROR(INDEX(D:D,MATCH(ROW(10:10),G:G,0),1),"")} | R12: {=IFERROR(INDEX(D:D,MATCH(ROW(10:10),H:H,0),1),"")} -> 131340 準備/万能板看板ｼｰﾄ申請費 | T12: {=IFERROR(INDEX(D:D,MATCH(ROW(10:10),I:I,0),1),"")} -> 131340 準備/万能板看板ｼｰﾄ申請費 | V12: {=IFERROR(INDEX(D:D,MATCH(ROW(10:10),J:J,0),1),"")} -> 131340 準備/万能板看板ｼｰﾄ申請費
D13: 131343 準備/地盤改良工事 | E13: =COUNTIF($D$3:D13,"*"&$B$3&"*") -> 0 | F13: =COUNTIF($D$3:D13,"*"&$B$4&"*") -> 0 | G13: =COUNTIF($D$3:D13,"*"&$B$5&"*") -> 0 | H13: =COUNTIF($D$3:D13,"*"&$B$6&"*") -> 11 | I13: =COUNTIF($D$3:D13,"*"&$B$7&"*") -> 11 | J13: =COUNTIF($D$3:D13,"*"&$B$8&"*") -> 11 | L13: {=IFERROR(INDEX(D:D,MATCH(ROW(11:11),E:E,0),1),"")} | N13: {=IFERROR(INDEX(D:D,MATCH(ROW(11:11),F:F,0),1),"")} | P13: {=IFERROR(INDEX(D:D,MATCH(ROW(11:11),G:G,0),1),"")} | R13: {=IFERROR(INDEX(D:D,MATCH(ROW(11:11),H:H,0),1),"")} -> 131343 準備/地盤改良工事 | T13: {=IFERROR(INDEX(D:D,MATCH(ROW(11:11),I:I,0),1),"")} -> 131343 準備/地盤改良工事 | V13: {=IFERROR(INDEX(D:D,MATCH(ROW(11:11),J:J,0),1),"")} -> 131343 準備/地盤改良工事
D14: 131346 準備/境界確認 | E14: =COUNTIF($D$3:D14,"*"&$B$3&"*") -> 0 | F14: =COUNTIF($D$3:D14,"*"&$B$4&"*") -> 0 | G14: =COUNTIF($D$3:D14,"*"&$B$5&"*") -> 0 | H14: =COUNTIF($D$3:D14,"*"&$B$6&"*") -> 12 | I14: =COUNTIF($D$3:D14,"*"&$B$7&"*") -> 12 | J14: =COUNTIF($D$3:D14,"*"&$B$8&"*") -> 12 | L14: {=IFERROR(INDEX(D:D,MATCH(ROW(12:12),E:E,0),1),"")} | N14: {=IFERROR(INDEX(D:D,MATCH(ROW(12:12),F:F,0),1),"")} | P14: {=IFERROR(INDEX(D:D,MATCH(ROW(12:12),G:G,0),1),"")} | R14: {=IFERROR(INDEX(D:D,MATCH(ROW(12:12),H:H,0),1),"")} -> 131346 準備/境界確認 | T14: {=IFERROR(INDEX(D:D,MATCH(ROW(12:12),I:I,0),1),"")} -> 131346 準備/境界確認 | V14: {=IFERROR(INDEX(D:D,MATCH(ROW(12:12),J:J,0),1),"")} -> 131346 準備/境界確認
D15: 131349 準備/土壌調査費 | E15: =COUNTIF($D$3:D15,"*"&$B$3&"*") -> 0 | F15: =COUNTIF($D$3:D15,"*"&$B$4&"*") -> 0 | G15: =COUNTIF($D$3:D15,"*"&$B$5&"*") -> 0 | H15: =COUNTIF($D$3:D15,"*"&$B$6&"*") -> 13 | I15: =COUNTIF($D$3:D15,"*"&$B$7&"*") -> 13 | J15: =COUNTIF($D$3:D15,"*"&$B$8&"*") -> 13 | L15: {=IFERROR(INDEX(D:D,MATCH(ROW(13:13),E:E,0),1),"")} | N15: {=IFERROR(INDEX(D:D,MATCH(ROW(13:13),F:F,0),1),"")} | P15: {=IFERROR(INDEX(D:D,MATCH(ROW(13:13),G:G,0),1),"")} | R15: {=IFERROR(INDEX(D:D,MATCH(ROW(13:13),H:H,0),1),"")} -> 131349 準備/土壌調査費 | T15: {=IFERROR(INDEX(D:D,MATCH(ROW(13:13),I:I,0),1),"")} -> 131349 準備/土壌調査費 | V15: {=IFERROR(INDEX(D:D,MATCH(ROW(13:13),J:J,0),1),"")} -> 131349 準備/土壌調査費
D16: 131352 準備/植樹移植復旧･撤去費 | E16: =COUNTIF($D$3:D16,"*"&$B$3&"*") -> 0 | F16: =COUNTIF($D$3:D16,"*"&$B$4&"*") -> 0 | G16: =COUNTIF($D$3:D16,"*"&$B$5&"*") -> 0 | H16: =COUNTIF($D$3:D16,"*"&$B$6&"*") -> 14 | I16: =COUNTIF($D$3:D16,"*"&$B$7&"*") -> 14 | J16: =COUNTIF($D$3:D16,"*"&$B$8&"*") -> 14 | L16: {=IFERROR(INDEX(D:D,MATCH(ROW(14:14),E:E,0),1),"")} | N16: {=IFERROR(INDEX(D:D,MATCH(ROW(14:14),F:F,0),1),"")} | P16: {=IFERROR(INDEX(D:D,MATCH(ROW(14:14),G:G,0),1),"")} | R16: {=IFERROR(INDEX(D:D,MATCH(ROW(14:14),H:H,0),1),"")} -> 131352 準備/植樹移植復旧･撤去費 | T16: {=IFERROR(INDEX(D:D,MATCH(ROW(14:14),I:I,0),1),"")} -> 131352 準備/植樹移植復旧･撤去費 | V16: {=IFERROR(INDEX(D:D,MATCH(ROW(14:14),J:J,0),1),"")} -> 131352 準備/植樹移植復旧･撤去費
D17: 131355 準備/設計図書製本 | E17: =COUNTIF($D$3:D17,"*"&$B$3&"*") -> 0 | F17: =COUNTIF($D$3:D17,"*"&$B$4&"*") -> 0 | G17: =COUNTIF($D$3:D17,"*"&$B$5&"*") -> 0 | H17: =COUNTIF($D$3:D17,"*"&$B$6&"*") -> 15 | I17: =COUNTIF($D$3:D17,"*"&$B$7&"*") -> 15 | J17: =COUNTIF($D$3:D17,"*"&$B$8&"*") -> 15 | L17: {=IFERROR(INDEX(D:D,MATCH(ROW(15:15),E:E,0),1),"")} | N17: {=IFERROR(INDEX(D:D,MATCH(ROW(15:15),F:F,0),1),"")} | P17: {=IFERROR(INDEX(D:D,MATCH(ROW(15:15),G:G,0),1),"")} | R17: {=IFERROR(INDEX(D:D,MATCH(ROW(15:15),H:H,0),1),"")} -> 131355 準備/設計図書製本 | T17: {=IFERROR(INDEX(D:D,MATCH(ROW(15:15),I:I,0),1),"")} -> 131355 準備/設計図書製本 | V17: {=IFERROR(INDEX(D:D,MATCH(ROW(15:15),J:J,0),1),"")} -> 131355 準備/設計図書製本
D18: 131395 準備/その他 | E18: =COUNTIF($D$3:D18,"*"&$B$3&"*") -> 0 | F18: =COUNTIF($D$3:D18,"*"&$B$4&"*") -> 0 | G18: =COUNTIF($D$3:D18,"*"&$B$5&"*") -> 0 | H18: =COUNTIF($D$3:D18,"*"&$B$6&"*") -> 16 | I18: =COUNTIF($D$3:D18,"*"&$B$7&"*") -> 16 | J18: =COUNTIF($D$3:D18,"*"&$B$8&"*") -> 16 | L18: {=IFERROR(INDEX(D:D,MATCH(ROW(16:16),E:E,0),1),"")} | N18: {=IFERROR(INDEX(D:D,MATCH(ROW(16:16),F:F,0),1),"")} | P18: {=IFERROR(INDEX(D:D,MATCH(ROW(16:16),G:G,0),1),"")} | R18: {=IFERROR(INDEX(D:D,MATCH(ROW(16:16),H:H,0),1),"")} -> 131395 準備/その他 | T18: {=IFERROR(INDEX(D:D,MATCH(ROW(16:16),I:I,0),1),"")} -> 131395 準備/その他 | V18: {=IFERROR(INDEX(D:D,MATCH(ROW(16:16),J:J,0),1),"")} -> 131395 準備/その他
D19: 131613 ﾘｰｽ/現場事務所備品 | E19: =COUNTIF($D$3:D19,"*"&$B$3&"*") -> 0 | F19: =COUNTIF($D$3:D19,"*"&$B$4&"*") -> 0 | G19: =COUNTIF($D$3:D19,"*"&$B$5&"*") -> 0 | H19: =COUNTIF($D$3:D19,"*"&$B$6&"*") -> 17 | I19: =COUNTIF($D$3:D19,"*"&$B$7&"*") -> 17 | J19: =COUNTIF($D$3:D19,"*"&$B$8&"*") -> 17 | L19: {=IFERROR(INDEX(D:D,MATCH(ROW(17:17),E:E,0),1),"")} | N19: {=IFERROR(INDEX(D:D,MATCH(ROW(17:17),F:F,0),1),"")} | P19: {=IFERROR(INDEX(D:D,MATCH(ROW(17:17),G:G,0),1),"")} | R19: {=IFERROR(INDEX(D:D,MATCH(ROW(17:17),H:H,0),1),"")} -> 131613 ﾘｰｽ/現場事務所備品 | T19: {=IFERROR(INDEX(D:D,MATCH(ROW(17:17),I:I,0),1),"")} -> 131613 ﾘｰｽ/現場事務所備品 | V19: {=IFERROR(INDEX(D:D,MATCH(ROW(17:17),J:J,0),1),"")} -> 131613 ﾘｰｽ/現場事務所備品
D20: 131616 ﾘｰｽ/作業員詰所 | E20: =COUNTIF($D$3:D20,"*"&$B$3&"*") -> 0 | F20: =COUNTIF($D$3:D20,"*"&$B$4&"*") -> 0 | G20: =COUNTIF($D$3:D20,"*"&$B$5&"*") -> 0 | H20: =COUNTIF($D$3:D20,"*"&$B$6&"*") -> 18 | I20: =COUNTIF($D$3:D20,"*"&$B$7&"*") -> 18 | J20: =COUNTIF($D$3:D20,"*"&$B$8&"*") -> 18 | L20: {=IFERROR(INDEX(D:D,MATCH(ROW(18:18),E:E,0),1),"")} | N20: {=IFERROR(INDEX(D:D,MATCH(ROW(18:18),F:F,0),1),"")} | P20: {=IFERROR(INDEX(D:D,MATCH(ROW(18:18),G:G,0),1),"")} | R20: {=IFERROR(INDEX(D:D,MATCH(ROW(18:18),H:H,0),1),"")} -> 131616 ﾘｰｽ/作業員詰所 | T20: {=IFERROR(INDEX(D:D,MATCH(ROW(18:18),I:I,0),1),"")} -> 131616 ﾘｰｽ/作業員詰所 | V20: {=IFERROR(INDEX(D:D,MATCH(ROW(18:18),J:J,0),1),"")} -> 131616 ﾘｰｽ/作業員詰所
D21: 131619 ﾘｰｽ/作業員詰所備品 | E21: =COUNTIF($D$3:D21,"*"&$B$3&"*") -> 0 | F21: =COUNTIF($D$3:D21,"*"&$B$4&"*") -> 0 | G21: =COUNTIF($D$3:D21,"*"&$B$5&"*") -> 0 | H21: =COUNTIF($D$3:D21,"*"&$B$6&"*") -> 19 | I21: =COUNTIF($D$3:D21,"*"&$B$7&"*") -> 19 | J21: =COUNTIF($D$3:D21,"*"&$B$8&"*") -> 19 | L21: {=IFERROR(INDEX(D:D,MATCH(ROW(19:19),E:E,0),1),"")} | N21: {=IFERROR(INDEX(D:D,MATCH(ROW(19:19),F:F,0),1),"")} | P21: {=IFERROR(INDEX(D:D,MATCH(ROW(19:19),G:G,0),1),"")} | R21: {=IFERROR(INDEX(D:D,MATCH(ROW(19:19),H:H,0),1),"")} -> 131619 ﾘｰｽ/作業員詰所備品 | T21: {=IFERROR(INDEX(D:D,MATCH(ROW(19:19),I:I,0),1),"")} -> 131619 ﾘｰｽ/作業員詰所備品 | V21: {=IFERROR(INDEX(D:D,MATCH(ROW(19:19),J:J,0),1),"")} -> 131619 ﾘｰｽ/作業員詰所備品
D22: 131622 ﾘｰｽ/仮設ﾄｲﾚ | E22: =COUNTIF($D$3:D22,"*"&$B$3&"*") -> 0 | F22: =COUNTIF($D$3:D22,"*"&$B$4&"*") -> 0 | G22: =COUNTIF($D$3:D22,"*"&$B$5&"*") -> 0 | H22: =COUNTIF($D$3:D22,"*"&$B$6&"*") -> 20 | I22: =COUNTIF($D$3:D22,"*"&$B$7&"*") -> 20 | J22: =COUNTIF($D$3:D22,"*"&$B$8&"*") -> 20 | L22: {=IFERROR(INDEX(D:D,MATCH(ROW(20:20),E:E,0),1),"")} | N22: {=IFERROR(INDEX(D:D,MATCH(ROW(20:20),F:F,0),1),"")} | P22: {=IFERROR(INDEX(D:D,MATCH(ROW(20:20),G:G,0),1),"")} | R22: {=IFERROR(INDEX(D:D,MATCH(ROW(20:20),H:H,0),1),"")} -> 131622 ﾘｰｽ/仮設ﾄｲﾚ | T22: {=IFERROR(INDEX(D:D,MATCH(ROW(20:20),I:I,0),1),"")} -> 131622 ﾘｰｽ/仮設ﾄｲﾚ | V22: {=IFERROR(INDEX(D:D,MATCH(ROW(20:20),J:J,0),1),"")} -> 131622 ﾘｰｽ/仮設ﾄｲﾚ
D23: 131625 ﾘｰｽ/敷鉄板 | E23: =COUNTIF($D$3:D23,"*"&$B$3&"*") -> 0 | F23: =COUNTIF($D$3:D23,"*"&$B$4&"*") -> 0 | G23: =COUNTIF($D$3:D23,"*"&$B$5&"*") -> 0 | H23: =COUNTIF($D$3:D23,"*"&$B$6&"*") -> 21 | I23: =COUNTIF($D$3:D23,"*"&$B$7&"*") -> 21 | J23: =COUNTIF($D$3:D23,"*"&$B$8&"*") -> 21 | L23: {=IFERROR(INDEX(D:D,MATCH(ROW(21:21),E:E,0),1),"")} | N23: {=IFERROR(INDEX(D:D,MATCH(ROW(21:21),F:F,0),1),"")} | P23: {=IFERROR(INDEX(D:D,MATCH(ROW(21:21),G:G,0),1),"")} | R23: {=IFERROR(INDEX(D:D,MATCH(ROW(21:21),H:H,0),1),"")} -> 131625 ﾘｰｽ/敷鉄板 | T23: {=IFERROR(INDEX(D:D,MATCH(ROW(21:21),I:I,0),1),"")} -> 131625 ﾘｰｽ/敷鉄板 | V23: {=IFERROR(INDEX(D:D,MATCH(ROW(21:21),J:J,0),1),"")} -> 131625 ﾘｰｽ/敷鉄板
D24: 131628 ﾘｰｽ/ﾀﾜｰｸﾚｰﾝ | E24: =COUNTIF($D$3:D24,"*"&$B$3&"*") -> 0 | F24: =COUNTIF($D$3:D24,"*"&$B$4&"*") -> 0 | G24: =COUNTIF($D$3:D24,"*"&$B$5&"*") -> 0 | H24: =COUNTIF($D$3:D24,"*"&$B$6&"*") -> 22 | I24: =COUNTIF($D$3:D24,"*"&$B$7&"*") -> 22 | J24: =COUNTIF($D$3:D24,"*"&$B$8&"*") -> 22 | L24: {=IFERROR(INDEX(D:D,MATCH(ROW(22:22),E:E,0),1),"")} | N24: {=IFERROR(INDEX(D:D,MATCH(ROW(22:22),F:F,0),1),"")} | P24: {=IFERROR(INDEX(D:D,MATCH(ROW(22:22),G:G,0),1),"")} | R24: {=IFERROR(INDEX(D:D,MATCH(ROW(22:22),H:H,0),1),"")} -> 131628 ﾘｰｽ/ﾀﾜｰｸﾚｰﾝ | T24: {=IFERROR(INDEX(D:D,MATCH(ROW(22:22),I:I,0),1),"")} -> 131628 ﾘｰｽ/ﾀﾜｰｸﾚｰﾝ | V24: {=IFERROR(INDEX(D:D,MATCH(ROW(22:22),J:J,0),1),"")} -> 131628 ﾘｰｽ/ﾀﾜｰｸﾚｰﾝ
D25: 131631 ﾘｰｽ/ﾀﾜｰｸﾚｰﾝ基礎 | E25: =COUNTIF($D$3:D25,"*"&$B$3&"*") -> 0 | F25: =COUNTIF($D$3:D25,"*"&$B$4&"*") -> 0 | G25: =COUNTIF($D$3:D25,"*"&$B$5&"*") -> 0 | H25: =COUNTIF($D$3:D25,"*"&$B$6&"*") -> 23 | I25: =COUNTIF($D$3:D25,"*"&$B$7&"*") -> 23 | J25: =COUNTIF($D$3:D25,"*"&$B$8&"*") -> 23 | L25: {=IFERROR(INDEX(D:D,MATCH(ROW(23:23),E:E,0),1),"")} | N25: {=IFERROR(INDEX(D:D,MATCH(ROW(23:23),F:F,0),1),"")} | P25: {=IFERROR(INDEX(D:D,MATCH(ROW(23:23),G:G,0),1),"")} | R25: {=IFERROR(INDEX(D:D,MATCH(ROW(23:23),H:H,0),1),"")} -> 131631 ﾘｰｽ/ﾀﾜｰｸﾚｰﾝ基礎 | T25: {=IFERROR(INDEX(D:D,MATCH(ROW(23:23),I:I,0),1),"")} -> 131631 ﾘｰｽ/ﾀﾜｰｸﾚｰﾝ基礎 | V25: {=IFERROR(INDEX(D:D,MATCH(ROW(23:23),J:J,0),1),"")} -> 131631 ﾘｰｽ/ﾀﾜｰｸﾚｰﾝ基礎
D26: 131634 ﾘｰｽ/ﾀﾜｰｸﾚｰﾝ架台ﾘｰｽ基礎 | E26: =COUNTIF($D$3:D26,"*"&$B$3&"*") -> 0 | F26: =COUNTIF($D$3:D26,"*"&$B$4&"*") -> 0 | G26: =COUNTIF($D$3:D26,"*"&$B$5&"*") -> 0 | H26: =COUNTIF($D$3:D26,"*"&$B$6&"*") -> 24 | I26: =COUNTIF($D$3:D26,"*"&$B$7&"*") -> 24 | J26: =COUNTIF($D$3:D26,"*"&$B$8&"*") -> 24 | L26: {=IFERROR(INDEX(D:D,MATCH(ROW(24:24),E:E,0),1),"")} | N26: {=IFERROR(INDEX(D:D,MATCH(ROW(24:24),F:F,0),1),"")} | P26: {=IFERROR(INDEX(D:D,MATCH(ROW(24:24),G:G,0),1),"")} | R26: {=IFERROR(INDEX(D:D,MATCH(ROW(24:24),H:H,0),1),"")} -> 131634 ﾘｰｽ/ﾀﾜｰｸﾚｰﾝ架台ﾘｰｽ基礎 | T26: {=IFERROR(INDEX(D:D,MATCH(ROW(24:24),I:I,0),1),"")} -> 131634 ﾘｰｽ/ﾀﾜｰｸﾚｰﾝ架台ﾘｰｽ基礎 | V26: {=IFERROR(INDEX(D:D,MATCH(ROW(24:24),J:J,0),1),"")} -> 131634 ﾘｰｽ/ﾀﾜｰｸﾚｰﾝ架台ﾘｰｽ基礎
D27: 131637 ﾘｰｽ/ﾀﾜｰｸﾚｰﾝ旋回規制装置 | E27: =COUNTIF($D$3:D27,"*"&$B$3&"*") -> 0 | F27: =COUNTIF($D$3:D27,"*"&$B$4&"*") -> 0 | G27: =COUNTIF($D$3:D27,"*"&$B$5&"*") -> 0 | H27: =COUNTIF($D$3:D27,"*"&$B$6&"*") -> 25 | I27: =COUNTIF($D$3:D27,"*"&$B$7&"*") -> 25 | J27: =COUNTIF($D$3:D27,"*"&$B$8&"*") -> 25 | L27: {=IFERROR(INDEX(D:D,MATCH(ROW(25:25),E:E,0),1),"")} | N27: {=IFERROR(INDEX(D:D,MATCH(ROW(25:25),F:F,0),1),"")} | P27: {=IFERROR(INDEX(D:D,MATCH(ROW(25:25),G:G,0),1),"")} | R27: {=IFERROR(INDEX(D:D,MATCH(ROW(25:25),H:H,0),1),"")} -> 131637 ﾘｰｽ/ﾀﾜｰｸﾚｰﾝ旋回規制装置 | T27: {=IFERROR(INDEX(D:D,MATCH(ROW(25:25),I:I,0),1),"")} -> 131637 ﾘｰｽ/ﾀﾜｰｸﾚｰﾝ旋回規制装置 | V27: {=IFERROR(INDEX(D:D,MATCH(ROW(25:25),J:J,0),1),"")} -> 131637 ﾘｰｽ/ﾀﾜｰｸﾚｰﾝ旋回規制装置
D28: 131640 ﾘｰｽ/ﾀﾜｰｸﾚｰﾝｸﾗｲﾐﾝｸﾞ | E28: =COUNTIF($D$3:D28,"*"&$B$3&"*") -> 0 | F28: =COUNTIF($D$3:D28,"*"&$B$4&"*") -> 0 | G28: =COUNTIF($D$3:D28,"*"&$B$5&"*") -> 0 | H28: =COUNTIF($D$3:D28,"*"&$B$6&"*") -> 26 | I28: =COUNTIF($D$3:D28,"*"&$B$7&"*") -> 26 | J28: =COUNTIF($D$3:D28,"*"&$B$8&"*") -> 26 | L28: {=IFERROR(INDEX(D:D,MATCH(ROW(26:26),E:E,0),1),"")} | N28: {=IFERROR(INDEX(D:D,MATCH(ROW(26:26),F:F,0),1),"")} | P28: {=IFERROR(INDEX(D:D,MATCH(ROW(26:26),G:G,0),1),"")} | R28: {=IFERROR(INDEX(D:D,MATCH(ROW(26:26),H:H,0),1),"")} -> 131640 ﾘｰｽ/ﾀﾜｰｸﾚｰﾝｸﾗｲﾐﾝｸﾞ | T28: {=IFERROR(INDEX(D:D,MATCH(ROW(26:26),I:I,0),1),"")} -> 131640 ﾘｰｽ/ﾀﾜｰｸﾚｰﾝｸﾗｲﾐﾝｸﾞ | V28: {=IFERROR(INDEX(D:D,MATCH(ROW(26:26),J:J,0),1),"")} -> 131640 ﾘｰｽ/ﾀﾜｰｸﾚｰﾝｸﾗｲﾐﾝｸﾞ
D29: 131643 ﾘｰｽ/ﾛﾝｸﾞｽﾊﾟﾝ | E29: =COUNTIF($D$3:D29,"*"&$B$3&"*") -> 0 | F29: =COUNTIF($D$3:D29,"*"&$B$4&"*") -> 0 | G29: =COUNTIF($D$3:D29,"*"&$B$5&"*") -> 0 | H29: =COUNTIF($D$3:D29,"*"&$B$6&"*") -> 27 | I29: =COUNTIF($D$3:D29,"*"&$B$7&"*") -> 27 | J29: =COUNTIF($D$3:D29,"*"&$B$8&"*") -> 27 | L29: {=IFERROR(INDEX(D:D,MATCH(ROW(27:27),E:E,0),1),"")} | N29: {=IFERROR(INDEX(D:D,MATCH(ROW(27:27),F:F,0),1),"")} | P29: {=IFERROR(INDEX(D:D,MATCH(ROW(27:27),G:G,0),1),"")} | R29: {=IFERROR(INDEX(D:D,MATCH(ROW(27:27),H:H,0),1),"")} -> 131643 ﾘｰｽ/ﾛﾝｸﾞｽﾊﾟﾝ | T29: {=IFERROR(INDEX(D:D,MATCH(ROW(27:27),I:I,0),1),"")} -> 131643 ﾘｰｽ/ﾛﾝｸﾞｽﾊﾟﾝ | V29: {=IFERROR(INDEX(D:D,MATCH(ROW(27:27),J:J,0),1),"")} -> 131643 ﾘｰｽ/ﾛﾝｸﾞｽﾊﾟﾝ
D30: 131646 ﾘｰｽ/防犯ｶﾒﾗ | E30: =COUNTIF($D$3:D30,"*"&$B$3&"*") -> 0 | F30: =COUNTIF($D$3:D30,"*"&$B$4&"*") -> 0 | G30: =COUNTIF($D$3:D30,"*"&$B$5&"*") -> 0 | H30: =COUNTIF($D$3:D30,"*"&$B$6&"*") -> 28 | I30: =COUNTIF($D$3:D30,"*"&$B$7&"*") -> 28 | J30: =COUNTIF($D$3:D30,"*"&$B$8&"*") -> 28 | L30: {=IFERROR(INDEX(D:D,MATCH(ROW(28:28),E:E,0),1),"")} | N30: {=IFERROR(INDEX(D:D,MATCH(ROW(28:28),F:F,0),1),"")} | P30: {=IFERROR(INDEX(D:D,MATCH(ROW(28:28),G:G,0),1),"")} | R30: {=IFERROR(INDEX(D:D,MATCH(ROW(28:28),H:H,0),1),"")} -> 131646 ﾘｰｽ/防犯ｶﾒﾗ | T30: {=IFERROR(INDEX(D:D,MATCH(ROW(28:28),I:I,0),1),"")} -> 131646 ﾘｰｽ/防犯ｶﾒﾗ | V30: {=IFERROR(INDEX(D:D,MATCH(ROW(28:28),J:J,0),1),"")} -> 131646 ﾘｰｽ/防犯ｶﾒﾗ
D31: 131649 ﾘｰｽ/測量機器 | E31: =COUNTIF($D$3:D31,"*"&$B$3&"*") -> 0 | F31: =COUNTIF($D$3:D31,"*"&$B$4&"*") -> 0 | G31: =COUNTIF($D$3:D31,"*"&$B$5&"*") -> 0 | H31: =COUNTIF($D$3:D31,"*"&$B$6&"*") -> 29 | I31: =COUNTIF($D$3:D31,"*"&$B$7&"*") -> 29 | J31: =COUNTIF($D$3:D31,"*"&$B$8&"*") -> 29 | L31: {=IFERROR(INDEX(D:D,MATCH(ROW(29:29),E:E,0),1),"")} | N31: {=IFERROR(INDEX(D:D,MATCH(ROW(29:29),F:F,0),1),"")} | P31: {=IFERROR(INDEX(D:D,MATCH(ROW(29:29),G:G,0),1),"")} | R31: {=IFERROR(INDEX(D:D,MATCH(ROW(29:29),H:H,0),1),"")} -> 131649 ﾘｰｽ/測量機器 | T31: {=IFERROR(INDEX(D:D,MATCH(ROW(29:29),I:I,0),1),"")} -> 131649 ﾘｰｽ/測量機器 | V31: {=IFERROR(INDEX(D:D,MATCH(ROW(29:29),J:J,0),1),"")} -> 131649 ﾘｰｽ/測量機器
D32: 131652 ﾘｰｽ/ﾉｯﾁﾀﾝｸ | E32: =COUNTIF($D$3:D32,"*"&$B$3&"*") -> 0 | F32: =COUNTIF($D$3:D32,"*"&$B$4&"*") -> 0 | G32: =COUNTIF($D$3:D32,"*"&$B$5&"*") -> 0 | H32: =COUNTIF($D$3:D32,"*"&$B$6&"*") -> 30 | I32: =COUNTIF($D$3:D32,"*"&$B$7&"*") -> 30 | J32: =COUNTIF($D$3:D32,"*"&$B$8&"*") -> 30 | L32: {=IFERROR(INDEX(D:D,MATCH(ROW(30:30),E:E,0),1),"")} | N32: {=IFERROR(INDEX(D:D,MATCH(ROW(30:30),F:F,0),1),"")} | P32: {=IFERROR(INDEX(D:D,MATCH(ROW(30:30),G:G,0),1),"")} | R32: {=IFERROR(INDEX(D:D,MATCH(ROW(30:30),H:H,0),1),"")} -> 131652 ﾘｰｽ/ﾉｯﾁﾀﾝｸ | T32: {=IFERROR(INDEX(D:D,MATCH(ROW(30:30),I:I,0),1),"")} -> 131652 ﾘｰｽ/ﾉｯﾁﾀﾝｸ | V32: {=IFERROR(INDEX(D:D,MATCH(ROW(30:30),J:J,0),1),"")} -> 131652 ﾘｰｽ/ﾉｯﾁﾀﾝｸ
D33: 131655 ﾘｰｽ/高圧洗浄機 | E33: =COUNTIF($D$3:D33,"*"&$B$3&"*") -> 0 | F33: =COUNTIF($D$3:D33,"*"&$B$4&"*") -> 0 | G33: =COUNTIF($D$3:D33,"*"&$B$5&"*") -> 0 | H33: =COUNTIF($D$3:D33,"*"&$B$6&"*") -> 31 | I33: =COUNTIF($D$3:D33,"*"&$B$7&"*") -> 31 | J33: =COUNTIF($D$3:D33,"*"&$B$8&"*") -> 31 | L33: {=IFERROR(INDEX(D:D,MATCH(ROW(31:31),E:E,0),1),"")} | N33: {=IFERROR(INDEX(D:D,MATCH(ROW(31:31),F:F,0),1),"")} | P33: {=IFERROR(INDEX(D:D,MATCH(ROW(31:31),G:G,0),1),"")} | R33: {=IFERROR(INDEX(D:D,MATCH(ROW(31:31),H:H,0),1),"")} -> 131655 ﾘｰｽ/高圧洗浄機 | T33: {=IFERROR(INDEX(D:D,MATCH(ROW(31:31),I:I,0),1),"")} -> 131655 ﾘｰｽ/高圧洗浄機 | V33: {=IFERROR(INDEX(D:D,MATCH(ROW(31:31),J:J,0),1),"")} -> 131655 ﾘｰｽ/高圧洗浄機
D34: 131658 ﾘｰｽ/水中ﾎﾟﾝﾌﾟ | E34: =COUNTIF($D$3:D34,"*"&$B$3&"*") -> 0 | F34: =COUNTIF($D$3:D34,"*"&$B$4&"*") -> 0 | G34: =COUNTIF($D$3:D34,"*"&$B$5&"*") -> 0 | H34: =COUNTIF($D$3:D34,"*"&$B$6&"*") -> 32 | I34: =COUNTIF($D$3:D34,"*"&$B$7&"*") -> 32 | J34: =COUNTIF($D$3:D34,"*"&$B$8&"*") -> 32 | L34: {=IFERROR(INDEX(D:D,MATCH(ROW(32:32),E:E,0),1),"")} | N34: {=IFERROR(INDEX(D:D,MATCH(ROW(32:32),F:F,0),1),"")} | P34: {=IFERROR(INDEX(D:D,MATCH(ROW(32:32),G:G,0),1),"")} | R34: {=IFERROR(INDEX(D:D,MATCH(ROW(32:32),H:H,0),1),"")} -> 131658 ﾘｰｽ/水中ﾎﾟﾝﾌﾟ | T34: {=IFERROR(INDEX(D:D,MATCH(ROW(32:32),I:I,0),1),"")} -> 131658 ﾘｰｽ/水中ﾎﾟﾝﾌﾟ | V34: {=IFERROR(INDEX(D:D,MATCH(ROW(32:32),J:J,0),1),"")} -> 131658 ﾘｰｽ/水中ﾎﾟﾝﾌﾟ
D35: 131661 ﾘｰｽ/騒音振動計 | E35: =COUNTIF($D$3:D35,"*"&$B$3&"*") -> 0 | F35: =COUNTIF($D$3:D35,"*"&$B$4&"*") -> 0 | G35: =COUNTIF($D$3:D35,"*"&$B$5&"*") -> 0 | H35: =COUNTIF($D$3:D35,"*"&$B$6&"*") -> 33 | I35: =COUNTIF($D$3:D35,"*"&$B$7&"*") -> 33 | J35: =COUNTIF($D$3:D35,"*"&$B$8&"*") -> 33 | L35: {=IFERROR(INDEX(D:D,MATCH(ROW(33:33),E:E,0),1),"")} | N35: {=IFERROR(INDEX(D:D,MATCH(ROW(33:33),F:F,0),1),"")} | P35: {=IFERROR(INDEX(D:D,MATCH(ROW(33:33),G:G,0),1),"")} | R35: {=IFERROR(INDEX(D:D,MATCH(ROW(33:33),H:H,0),1),"")} -> 131661 ﾘｰｽ/騒音振動計 | T35: {=IFERROR(INDEX(D:D,MATCH(ROW(33:33),I:I,0),1),"")} -> 131661 ﾘｰｽ/騒音振動計 | V35: {=IFERROR(INDEX(D:D,MATCH(ROW(33:33),J:J,0),1),"")} -> 131661 ﾘｰｽ/騒音振動計
D36: 131664 ﾘｰｽ/内部足場 | E36: =COUNTIF($D$3:D36,"*"&$B$3&"*") -> 0 | F36: =COUNTIF($D$3:D36,"*"&$B$4&"*") -> 0 | G36: =COUNTIF($D$3:D36,"*"&$B$5&"*") -> 0 | H36: =COUNTIF($D$3:D36,"*"&$B$6&"*") -> 34 | I36: =COUNTIF($D$3:D36,"*"&$B$7&"*") -> 34 | J36: =COUNTIF($D$3:D36,"*"&$B$8&"*") -> 34 | L36: {=IFERROR(INDEX(D:D,MATCH(ROW(34:34),E:E,0),1),"")} | N36: {=IFERROR(INDEX(D:D,MATCH(ROW(34:34),F:F,0),1),"")} | P36: {=IFERROR(INDEX(D:D,MATCH(ROW(34:34),G:G,0),1),"")} | R36: {=IFERROR(INDEX(D:D,MATCH(ROW(34:34),H:H,0),1),"")} -> 131664 ﾘｰｽ/内部足場 | T36: {=IFERROR(INDEX(D:D,MATCH(ROW(34:34),I:I,0),1),"")} -> 131664 ﾘｰｽ/内部足場 | V36: {=IFERROR(INDEX(D:D,MATCH(ROW(34:34),J:J,0),1),"")} -> 131664 ﾘｰｽ/内部足場
D37: 131667 ﾘｰｽ/躯体工事用脚立足場 | E37: =COUNTIF($D$3:D37,"*"&$B$3&"*") -> 0 | F37: =COUNTIF($D$3:D37,"*"&$B$4&"*") -> 0 | G37: =COUNTIF($D$3:D37,"*"&$B$5&"*") -> 0 | H37: =COUNTIF($D$3:D37,"*"&$B$6&"*") -> 35 | I37: =COUNTIF($D$3:D37,"*"&$B$7&"*") -> 35 | J37: =COUNTIF($D$3:D37,"*"&$B$8&"*") -> 35 | L37: {=IFERROR(INDEX(D:D,MATCH(ROW(35:35),E:E,0),1),"")} | N37: {=IFERROR(INDEX(D:D,MATCH(ROW(35:35),F:F,0),1),"")} | P37: {=IFERROR(INDEX(D:D,MATCH(ROW(35:35),G:G,0),1),"")} | R37: {=IFERROR(INDEX(D:D,MATCH(ROW(35:35),H:H,0),1),"")} -> 131667 ﾘｰｽ/躯体工事用脚立足場 | T37: {=IFERROR(INDEX(D:D,MATCH(ROW(35:35),I:I,0),1),"")} -> 131667 ﾘｰｽ/躯体工事用脚立足場 | V37: {=IFERROR(INDEX(D:D,MATCH(ROW(35:35),J:J,0),1),"")} -> 131667 ﾘｰｽ/躯体工事用脚立足場
D38: 131670 ﾘｰｽ/外装工事用脚立足場 | E38: =COUNTIF($D$3:D38,"*"&$B$3&"*") -> 0 | F38: =COUNTIF($D$3:D38,"*"&$B$4&"*") -> 0 | G38: =COUNTIF($D$3:D38,"*"&$B$5&"*") -> 0 | H38: =COUNTIF($D$3:D38,"*"&$B$6&"*") -> 36 | I38: =COUNTIF($D$3:D38,"*"&$B$7&"*") -> 36 | J38: =COUNTIF($D$3:D38,"*"&$B$8&"*") -> 36 | L38: {=IFERROR(INDEX(D:D,MATCH(ROW(36:36),E:E,0),1),"")} | N38: {=IFERROR(INDEX(D:D,MATCH(ROW(36:36),F:F,0),1),"")} | P38: {=IFERROR(INDEX(D:D,MATCH(ROW(36:36),G:G,0),1),"")} | R38: {=IFERROR(INDEX(D:D,MATCH(ROW(36:36),H:H,0),1),"")} -> 131670 ﾘｰｽ/外装工事用脚立足場 | T38: {=IFERROR(INDEX(D:D,MATCH(ROW(36:36),I:I,0),1),"")} -> 131670 ﾘｰｽ/外装工事用脚立足場 | V38: {=IFERROR(INDEX(D:D,MATCH(ROW(36:36),J:J,0),1),"")} -> 131670 ﾘｰｽ/外装工事用脚立足場
D39: 131673 ﾘｰｽ/内装工事用脚立足場 | E39: =COUNTIF($D$3:D39,"*"&$B$3&"*") -> 0 | F39: =COUNTIF($D$3:D39,"*"&$B$4&"*") -> 0 | G39: =COUNTIF($D$3:D39,"*"&$B$5&"*") -> 0 | H39: =COUNTIF($D$3:D39,"*"&$B$6&"*") -> 37 | I39: =COUNTIF($D$3:D39,"*"&$B$7&"*") -> 37 | J39: =COUNTIF($D$3:D39,"*"&$B$8&"*") -> 37 | L39: {=IFERROR(INDEX(D:D,MATCH(ROW(37:37),E:E,0),1),"")} | N39: {=IFERROR(INDEX(D:D,MATCH(ROW(37:37),F:F,0),1),"")} | P39: {=IFERROR(INDEX(D:D,MATCH(ROW(37:37),G:G,0),1),"")} | R39: {=IFERROR(INDEX(D:D,MATCH(ROW(37:37),H:H,0),1),"")} -> 131673 ﾘｰｽ/内装工事用脚立足場 | T39: {=IFERROR(INDEX(D:D,MATCH(ROW(37:37),I:I,0),1),"")} -> 131673 ﾘｰｽ/内装工事用脚立足場 | V39: {=IFERROR(INDEX(D:D,MATCH(ROW(37:37),J:J,0),1),"")} -> 131673 ﾘｰｽ/内装工事用脚立足場
D40: 131676 ﾘｰｽ/足場安全施設(親綱他) | E40: =COUNTIF($D$3:D40,"*"&$B$3&"*") -> 0 | F40: =COUNTIF($D$3:D40,"*"&$B$4&"*") -> 0 | G40: =COUNTIF($D$3:D40,"*"&$B$5&"*") -> 0 | H40: =COUNTIF($D$3:D40,"*"&$B$6&"*") -> 38 | I40: =COUNTIF($D$3:D40,"*"&$B$7&"*") -> 38 | J40: =COUNTIF($D$3:D40,"*"&$B$8&"*") -> 38 | L40: {=IFERROR(INDEX(D:D,MATCH(ROW(38:38),E:E,0),1),"")} | N40: {=IFERROR(INDEX(D:D,MATCH(ROW(38:38),F:F,0),1),"")} | P40: {=IFERROR(INDEX(D:D,MATCH(ROW(38:38),G:G,0),1),"")} | R40: {=IFERROR(INDEX(D:D,MATCH(ROW(38:38),H:H,0),1),"")} -> 131676 ﾘｰｽ/足場安全施設(親綱他) | T40: {=IFERROR(INDEX(D:D,MATCH(ROW(38:38),I:I,0),1),"")} -> 131676 ﾘｰｽ/足場安全施設(親綱他) | V40: {=IFERROR(INDEX(D:D,MATCH(ROW(38:38),J:J,0),1),"")} -> 131676 ﾘｰｽ/足場安全施設(親綱他)
...

Sheet 消費税区分
B2: 消費税率
B3: 0.1
B4: 8%(軽減)
B5: 非課税
B6: 不課税
